BEGIN:VCALENDAR
VERSION:2.0
PRODID:http://pfarrei-tschirn.de
BEGIN:VEVENT
UID:ffcad359-364d-11f1-a8bf-0242ac11002b-1778398200000-de
DTSTAMP:20260412T090005Z
DTSTART:20260510T073000Z
DTEND:20260510T083000Z
SUMMARY;LANGUAGE=de:Eucharistiefeier
DESCRIPTION;LANGUAGE=de:in kroatischer Sprache
END:VEVENT
END:VCALENDAR
