BEGIN:VCALENDAR
VERSION:2.0
PRODID:http://pfarrei-tschirn.de
BEGIN:VEVENT
UID:ff975d66-3fbb-11f1-a8bf-0242ac11002b-1779426000000-de
DTSTAMP:20260424T090010Z
DTSTART:20260522T050000Z
DTEND:20260522T060000Z
SUMMARY;LANGUAGE=de:Eucharistiefeier
END:VEVENT
END:VCALENDAR
