BEGIN:VCALENDAR
VERSION:2.0
PRODID:http://pfarrei-tschirn.de
BEGIN:VEVENT
UID:fee57280-3fbb-11f1-a8bf-0242ac11002b-1779454800000-de
DTSTAMP:20260424T090009Z
DTSTART:20260522T130000Z
DTEND:20260522T134500Z
SUMMARY;LANGUAGE=de:Andacht z. Barmherzigkeit Gottes
END:VEVENT
END:VCALENDAR
