BEGIN:VCALENDAR
VERSION:2.0
PRODID:http://pfarrei-tschirn.de
BEGIN:VEVENT
UID:febdc63c-3fbb-11f1-a8bf-0242ac11002b-1779433200000-de
DTSTAMP:20260424T090009Z
DTSTART:20260522T070000Z
DTEND:20260522T080000Z
SUMMARY;LANGUAGE=de:Eucharistiefeier
END:VEVENT
END:VCALENDAR
