BEGIN:VCALENDAR
VERSION:2.0
PRODID:http://pfarrei-tschirn.de
BEGIN:VEVENT
UID:fdf8ef8a-3fbb-11f1-a8bf-0242ac11002b-1779462000000-de
DTSTAMP:20260424T090007Z
DTSTART:20260522T150000Z
DTEND:20260522T160000Z
SUMMARY;LANGUAGE=de:Eucharistiefeier
END:VEVENT
END:VCALENDAR
