BEGIN:VCALENDAR
VERSION:2.0
PRODID:http://pfarrei-tschirn.de
BEGIN:VEVENT
UID:fda55af2-364d-11f1-a8bf-0242ac11002b-1778392800000-de
DTSTAMP:20260412T090002Z
DTSTART:20260510T060000Z
DTEND:20260510T064500Z
SUMMARY;LANGUAGE=de:Bittgang der Wildensorger
DESCRIPTION;LANGUAGE=de:nach St. Jakob
END:VEVENT
END:VCALENDAR
