BEGIN:VCALENDAR
VERSION:2.0
PRODID:http://pfarrei-tschirn.de
BEGIN:VEVENT
UID:fb9c88d2-3fbb-11f1-a8bf-0242ac11002b-1779429600000-de
DTSTAMP:20260424T090003Z
DTSTART:20260522T060000Z
DTEND:20260522T070000Z
SUMMARY;LANGUAGE=de:Eucharistiefeier (Domkapitel)
END:VEVENT
END:VCALENDAR
