BEGIN:VCALENDAR
VERSION:2.0
PRODID:http://pfarrei-tschirn.de
BEGIN:VEVENT
UID:fb67e419-3fbb-11f1-a8bf-0242ac11002b-1779431400000-de
DTSTAMP:20260424T090003Z
DTSTART:20260522T063000Z
DTEND:20260522T071500Z
SUMMARY;LANGUAGE=de:Eucharistiefeier
END:VEVENT
END:VCALENDAR
