BEGIN:VCALENDAR
VERSION:2.0
PRODID:http://pfarrei-tschirn.de
BEGIN:VEVENT
UID:fb58a1d6-3fbb-11f1-a8bf-0242ac11002b-1779458400000-de
DTSTAMP:20260424T090003Z
DTSTART:20260522T140000Z
DTEND:20260522T143000Z
SUMMARY;LANGUAGE=de:Maiandacht Seniorenkreis St. Josef Gaustadt
END:VEVENT
END:VCALENDAR
