BEGIN:VCALENDAR
VERSION:2.0
PRODID:http://pfarrei-tschirn.de
BEGIN:VEVENT
UID:fa8e73f4-3fbb-11f1-a8bf-0242ac11002b-1779472800000-de
DTSTAMP:20260424T090002Z
DTSTART:20260522T180000Z
DTEND:20260522T190000Z
SUMMARY;LANGUAGE=de:Abendlob mit Gesängen aus Taizé
END:VEVENT
END:VCALENDAR
