BEGIN:VCALENDAR
VERSION:2.0
PRODID:http://pfarrei-tschirn.de
BEGIN:VEVENT
UID:f1fcca9f-2a8c-11f1-a15b-0242ac11002b-1777136400000-de
DTSTAMP:20260328T100026Z
DTSTART:20260425T170000Z
DTEND:20260425T213000Z
SUMMARY;LANGUAGE=de:Gebetsnacht um Berufungen
DESCRIPTION;LANGUAGE=de:ab 19:00 Uhr durch die Nacht. Abschluss um 6:30 Uhr mit dem Morgengebet (Laudes)
END:VEVENT
END:VCALENDAR
