BEGIN:VCALENDAR
VERSION:2.0
PRODID:http://pfarrei-tschirn.de
BEGIN:VEVENT
UID:ee81fc7d-2a8c-11f1-a15b-0242ac11002b-1777132800000-de
DTSTAMP:20260328T100021Z
DTSTART:20260425T160000Z
DTEND:20260425T163000Z
SUMMARY;LANGUAGE=de:Markusprozession
DESCRIPTION;LANGUAGE=de:nach Unterneuses
END:VEVENT
END:VCALENDAR
