BEGIN:VCALENDAR
VERSION:2.0
PRODID:http://pfarrei-tschirn.de
BEGIN:VEVENT
UID:ee11392d-2a8c-11f1-a15b-0242ac11002b-1777092300000-de
DTSTAMP:20260328T100020Z
DTSTART:20260425T044500Z
DTEND:20260425T054500Z
SUMMARY;LANGUAGE=de:MARKUSPROZESSION
DESCRIPTION;LANGUAGE=de:zum Staffelberg Auszug Uetzing und Stublang (Bushaltestelle)
END:VEVENT
END:VCALENDAR
