BEGIN:VCALENDAR
VERSION:2.0
PRODID:http://pfarrei-tschirn.de
BEGIN:VEVENT
UID:ecd73246-2a8c-11f1-a15b-0242ac11002b-1777105800000-de
DTSTAMP:20260328T100018Z
DTSTART:20260425T083000Z
DTEND:20260425T093000Z
SUMMARY;LANGUAGE=de:Hl. Messe zur Erstkommunion Frensdorf
END:VEVENT
END:VCALENDAR
