BEGIN:VCALENDAR
VERSION:2.0
PRODID:http://pfarrei-tschirn.de
BEGIN:VEVENT
UID:e20d0dfb-3ef2-11f1-a8bf-0242ac11002b-1779364800000-de
DTSTAMP:20260423T090032Z
DTSTART:20260521T120000Z
DTEND:20260521T130000Z
SUMMARY;LANGUAGE=de:Wort-Gottes-Feier in der Tagespflege Foidl
END:VEVENT
END:VCALENDAR
