BEGIN:VCALENDAR
VERSION:2.0
PRODID:http://pfarrei-tschirn.de
BEGIN:VEVENT
UID:e1dc12df-3ef2-11f1-a8bf-0242ac11002b-1779378300000-de
DTSTAMP:20260423T090031Z
DTSTART:20260521T154500Z
DTEND:20260521T163000Z
SUMMARY;LANGUAGE=de:Bittgang nach Wickendorf
END:VEVENT
END:VCALENDAR
