BEGIN:VCALENDAR
VERSION:2.0
PRODID:http://pfarrei-tschirn.de
BEGIN:VEVENT
UID:e014bbd9-30cd-11f1-a8bf-0242ac11002b-1777780800000-de
DTSTAMP:20260405T090021Z
DTSTART:20260503T040000Z
DTEND:20260503T060000Z
SUMMARY;LANGUAGE=de:Wallfahrt nach Vierzehnheiligen
DESCRIPTION;LANGUAGE=de:Weggang um 06:00 Uhr in Döringtadt (?)\, Wiesen circa um.......\, Rückkehr????
END:VEVENT
END:VCALENDAR
