BEGIN:VCALENDAR
VERSION:2.0
PRODID:http://pfarrei-tschirn.de
BEGIN:VEVENT
UID:df95c7c4-30cd-11f1-a8bf-0242ac11002b-1777777200000-de
DTSTAMP:20260405T090020Z
DTSTART:20260503T030000Z
DTEND:20260503T040000Z
SUMMARY;LANGUAGE=de:Auswallen von Prächting
DESCRIPTION;LANGUAGE=de:nach Vierzehnheiligen
END:VEVENT
END:VCALENDAR
