BEGIN:VCALENDAR
VERSION:2.0
PRODID:http://pfarrei-tschirn.de
BEGIN:VEVENT
UID:de884577-3a3b-11f1-a8bf-0242ac11002b-1778832000000-de
DTSTAMP:20260417T090023Z
DTSTART:20260515T080000Z
DTEND:20260515T090000Z
SUMMARY;LANGUAGE=de:Wort-Gottes-Feier
DESCRIPTION;LANGUAGE=de:im Vitanas Seniorencentrum
END:VEVENT
END:VCALENDAR
