BEGIN:VCALENDAR
VERSION:2.0
PRODID:http://pfarrei-tschirn.de
BEGIN:VEVENT
UID:dd3f6372-3584-11f1-a8bf-0242ac11002b-1778337000000-de
DTSTAMP:20260411T090018Z
DTSTART:20260509T143000Z
DTEND:20260509T150000Z
SUMMARY;LANGUAGE=de:Bittgang nach Motschenbach
END:VEVENT
END:VCALENDAR
