BEGIN:VCALENDAR
VERSION:2.0
PRODID:http://pfarrei-tschirn.de
BEGIN:VEVENT
UID:dd24e06f-2c16-11f1-a15b-0242ac11002b-1777305600000-de
DTSTAMP:20260330T090013Z
DTSTART:20260427T160000Z
DTEND:20260427T170000Z
SUMMARY;LANGUAGE=de:Eucharistiefeier
END:VEVENT
END:VCALENDAR
