BEGIN:VCALENDAR
VERSION:2.0
PRODID:http://pfarrei-tschirn.de
BEGIN:VEVENT
UID:dc928fd4-3a3b-11f1-a8bf-0242ac11002b-1778864400000-de
DTSTAMP:20260417T090020Z
DTSTART:20260515T170000Z
DTEND:20260515T180000Z
SUMMARY;LANGUAGE=de:Eucharistische Anbetung
END:VEVENT
END:VCALENDAR
