BEGIN:VCALENDAR
VERSION:2.0
PRODID:http://pfarrei-tschirn.de
BEGIN:VEVENT
UID:dc139bbf-3a3b-11f1-a8bf-0242ac11002b-1778857200000-de
DTSTAMP:20260417T090019Z
DTSTART:20260515T150000Z
DTEND:20260515T153000Z
SUMMARY;LANGUAGE=de:Rosenkranzgebet
DESCRIPTION;LANGUAGE=de:für den Frieden
END:VEVENT
END:VCALENDAR
