BEGIN:VCALENDAR
VERSION:2.0
PRODID:http://pfarrei-tschirn.de
BEGIN:VEVENT
UID:dbfd7bac-3a3b-11f1-a8bf-0242ac11002b-1778850000000-de
DTSTAMP:20260417T090019Z
DTSTART:20260515T130000Z
DTEND:20260515T140000Z
SUMMARY;LANGUAGE=de:Eucharistiefeier
DESCRIPTION;LANGUAGE=de:im Seniorenheim St. Kilian Hallstadt
END:VEVENT
END:VCALENDAR
