BEGIN:VCALENDAR
VERSION:2.0
PRODID:http://pfarrei-tschirn.de
BEGIN:VEVENT
UID:da507260-30cd-11f1-a8bf-0242ac11002b-1777824000000-de
DTSTAMP:20260405T090011Z
DTSTART:20260503T160000Z
DTEND:20260503T170000Z
SUMMARY;LANGUAGE=de:Erste feierliche Maiandacht
END:VEVENT
END:VCALENDAR
