BEGIN:VCALENDAR
VERSION:2.0
PRODID:http://pfarrei-tschirn.de
BEGIN:VEVENT
UID:d5bd0b9e-3ef2-11f1-a8bf-0242ac11002b-1778401800000-de
DTSTAMP:20260423T090011Z
DTSTART:20260510T083000Z
DTEND:20260510T093000Z
SUMMARY;LANGUAGE=de:Wortgottesfeier
DESCRIPTION;LANGUAGE=de:Kindergottesdienst
END:VEVENT
END:VCALENDAR
