BEGIN:VCALENDAR
VERSION:2.0
PRODID:http://pfarrei-tschirn.de
BEGIN:VEVENT
UID:d366a309-3584-11f1-a8bf-0242ac11002b-1778306400000-de
DTSTAMP:20260411T090002Z
DTSTART:20260509T060000Z
DTEND:20260509T070000Z
SUMMARY;LANGUAGE=de:Eucharistiefeier (Domkapitel)
END:VEVENT
END:VCALENDAR
