BEGIN:VCALENDAR
VERSION:2.0
PRODID:http://pfarrei-tschirn.de
BEGIN:VEVENT
UID:d2b924ea-3584-11f1-a8bf-0242ac11002b-1778335200000-de
DTSTAMP:20260411T090001Z
DTSTART:20260509T140000Z
DTEND:20260509T150000Z
SUMMARY;LANGUAGE=de:Portug. Eucharistiefeier
END:VEVENT
END:VCALENDAR
