BEGIN:VCALENDAR
VERSION:2.0
PRODID:http://pfarrei-tschirn.de
BEGIN:VEVENT
UID:d28c96a4-3584-11f1-a8bf-0242ac11002b-1778338800000-de
DTSTAMP:20260411T090000Z
DTSTART:20260509T150000Z
DTEND:20260509T160000Z
SUMMARY;LANGUAGE=de:Vorabendmesse in den Anliegen der Dompfarrei
END:VEVENT
END:VCALENDAR
