BEGIN:VCALENDAR
VERSION:2.0
PRODID:http://pfarrei-tschirn.de
BEGIN:VEVENT
UID:d23c13c6-3a3b-11f1-a8bf-0242ac11002b-1778824800000-de
DTSTAMP:20260417T090002Z
DTSTART:20260515T060000Z
DTEND:20260515T070000Z
SUMMARY;LANGUAGE=de:Eucharistiefeier (Domkapitel)
END:VEVENT
END:VCALENDAR
