BEGIN:VCALENDAR
VERSION:2.0
PRODID:http://pfarrei-tschirn.de
BEGIN:VEVENT
UID:d21e6120-3ef2-11f1-a8bf-0242ac11002b-1779368400000-de
DTSTAMP:20260423T090005Z
DTSTART:20260521T130000Z
DTEND:20260521T140000Z
SUMMARY;LANGUAGE=de:Eucharistiefeier
DESCRIPTION;LANGUAGE=de:im Roncallistift
END:VEVENT
END:VCALENDAR
