BEGIN:VCALENDAR
VERSION:2.0
PRODID:http://pfarrei-tschirn.de
BEGIN:VEVENT
UID:d2197090-3a3b-11f1-a8bf-0242ac11002b-1778826600000-de
DTSTAMP:20260417T090002Z
DTSTART:20260515T063000Z
DTEND:20260515T071500Z
SUMMARY;LANGUAGE=de:Eucharistiefeier
END:VEVENT
END:VCALENDAR
