BEGIN:VCALENDAR
VERSION:2.0
PRODID:http://pfarrei-tschirn.de
BEGIN:VEVENT
UID:c780ccec-36ba-11f1-a8bf-0242ac11002b-1777653000000-de
DTSTAMP:20260412T215846Z
DTSTART:20260501T163000Z
DTEND:20260501T173000Z
SUMMARY;LANGUAGE=de:Maiandacht in der Pfarrkirche
END:VEVENT
END:VCALENDAR
