BEGIN:VCALENDAR
VERSION:2.0
PRODID:http://pfarrei-tschirn.de
BEGIN:VEVENT
UID:c73cfb76-29c3-11f1-a15b-0242ac11002b-1777042800000-de
DTSTAMP:20260327T100026Z
DTSTART:20260424T150000Z
DTEND:20260424T153000Z
SUMMARY;LANGUAGE=de:Rosenkranzgebet
DESCRIPTION;LANGUAGE=de:für den Frieden
END:VEVENT
END:VCALENDAR
