BEGIN:VCALENDAR
VERSION:2.0
PRODID:http://pfarrei-tschirn.de
BEGIN:VEVENT
UID:c665e6eb-36ba-11f1-a8bf-0242ac11002b-1778344200000-de
DTSTAMP:20260412T215844Z
DTSTART:20260509T163000Z
DTEND:20260509T173000Z
SUMMARY;LANGUAGE=de:Wort-Gottes-Feier
END:VEVENT
END:VCALENDAR
