BEGIN:VCALENDAR
VERSION:2.0
PRODID:http://pfarrei-tschirn.de
BEGIN:VEVENT
UID:c2df8009-36ba-11f1-a8bf-0242ac11002b-1777795200000-de
DTSTAMP:20260412T215838Z
DTSTART:20260503T080000Z
DTEND:20260503T090000Z
SUMMARY;LANGUAGE=de:Wort-Gottes-Feier
END:VEVENT
END:VCALENDAR
