BEGIN:VCALENDAR
VERSION:2.0
PRODID:http://pfarrei-tschirn.de
BEGIN:VEVENT
UID:c2366eb7-36ba-11f1-a8bf-0242ac11002b-1778338800000-de
DTSTAMP:20260412T215837Z
DTSTART:20260509T150000Z
DTEND:20260509T160000Z
SUMMARY;LANGUAGE=de:Wort-Gottes-Feier mit Gebetsgedenken an:
DESCRIPTION;LANGUAGE=de:+ Walburga und Hans Beetz und Angehörige
END:VEVENT
END:VCALENDAR
