BEGIN:VCALENDAR
VERSION:2.0
PRODID:http://pfarrei-tschirn.de
BEGIN:VEVENT
UID:c136c68b-29c3-11f1-a15b-0242ac11002b-1777006800000-de
DTSTAMP:20260327T100016Z
DTSTART:20260424T050000Z
DTEND:20260424T060000Z
SUMMARY;LANGUAGE=de:Eucharistiefeier
END:VEVENT
END:VCALENDAR
