BEGIN:VCALENDAR
VERSION:2.0
PRODID:http://pfarrei-tschirn.de
BEGIN:VEVENT
UID:c0ff3bbc-29c3-11f1-a15b-0242ac11002b-1777039200000-de
DTSTAMP:20260327T100015Z
DTSTART:20260424T140000Z
DTEND:20260424T150000Z
SUMMARY;LANGUAGE=de:Erstbeichte der Kommunionkinder (Gruppe 2)
END:VEVENT
END:VCALENDAR
