BEGIN:VCALENDAR
VERSION:2.0
PRODID:http://pfarrei-tschirn.de
BEGIN:VEVENT
UID:be9703c7-2b4d-11f1-a15b-0242ac11002b-1777192200000-de
DTSTAMP:20260329T090033Z
DTSTART:20260426T083000Z
DTEND:20260426T093000Z
SUMMARY;LANGUAGE=de:Eucharistiefeier
DESCRIPTION;LANGUAGE=de:- Jubelkommunion
END:VEVENT
END:VCALENDAR
