BEGIN:VCALENDAR
VERSION:2.0
PRODID:http://pfarrei-tschirn.de
BEGIN:VEVENT
UID:bdf25f35-2b4d-11f1-a15b-0242ac11002b-1777182300000-de
DTSTAMP:20260329T090032Z
DTSTART:20260426T054500Z
DTEND:20260426T064500Z
SUMMARY;LANGUAGE=de:Eucharistiefeier
END:VEVENT
END:VCALENDAR
