BEGIN:VCALENDAR
VERSION:2.0
PRODID:http://pfarrei-tschirn.de
BEGIN:VEVENT
UID:bcef1fd7-2b4d-11f1-a15b-0242ac11002b-1777190400000-de
DTSTAMP:20260329T090030Z
DTSTART:20260426T080000Z
DTEND:20260426T090000Z
SUMMARY;LANGUAGE=de:Hl. Messe - Jubelkommunion
DESCRIPTION;LANGUAGE=de:9:45 Uhr Abholung am Rathaus
END:VEVENT
END:VCALENDAR
