BEGIN:VCALENDAR
VERSION:2.0
PRODID:http://pfarrei-tschirn.de
BEGIN:VEVENT
UID:bc6c3423-2b4d-11f1-a15b-0242ac11002b-1777190400000-de
DTSTAMP:20260329T090029Z
DTSTART:20260426T080000Z
DTEND:20260426T090000Z
SUMMARY;LANGUAGE=de:Wortgottesfeier, anschl. Fahrzeugsegnung
END:VEVENT
END:VCALENDAR
