BEGIN:VCALENDAR
VERSION:2.0
PRODID:http://pfarrei-tschirn.de
BEGIN:VEVENT
UID:bb78a932-36ba-11f1-a8bf-0242ac11002b-1777789800000-de
DTSTAMP:20260412T215826Z
DTSTART:20260503T063000Z
DTEND:20260503T073000Z
SUMMARY;LANGUAGE=de:Wort-Gottes-Feier
END:VEVENT
END:VCALENDAR
