BEGIN:VCALENDAR
VERSION:2.0
PRODID:http://pfarrei-tschirn.de
BEGIN:VEVENT
UID:bb574199-2b4d-11f1-a15b-0242ac11002b-1777185000000-de
DTSTAMP:20260329T090028Z
DTSTART:20260426T063000Z
DTEND:20260426T073000Z
SUMMARY;LANGUAGE=de:Auszug der Markusprozession
DESCRIPTION;LANGUAGE=de:nach Vierzehnheiligen\, dort 10:30 Uhr Wallfahrtsamt wurde wg. Jugendgottesdienst Bad Ste auf Sonntag verschoben\, Start 08:30 Uhr (fest - geklärt)
END:VEVENT
END:VCALENDAR
