BEGIN:VCALENDAR
VERSION:2.0
PRODID:http://pfarrei-tschirn.de
BEGIN:VEVENT
UID:b980d974-3972-11f1-a8bf-0242ac11002b-1778774400000-de
DTSTAMP:20260416T090032Z
DTSTART:20260514T160000Z
DTEND:20260514T170000Z
SUMMARY;LANGUAGE=de:evang. Wort-Gottes-Feier
DESCRIPTION;LANGUAGE=de:in der Klinikkapelle
END:VEVENT
END:VCALENDAR
