BEGIN:VCALENDAR
VERSION:2.0
PRODID:http://pfarrei-tschirn.de
BEGIN:VEVENT
UID:b92889eb-3004-11f1-a8bf-0242ac11002b-1777737600000-de
DTSTAMP:20260404T090026Z
DTSTART:20260502T160000Z
DTEND:20260502T170000Z
SUMMARY;LANGUAGE=de:Eucharistiefeier
DESCRIPTION;LANGUAGE=de:Florianfeier
END:VEVENT
END:VCALENDAR
