BEGIN:VCALENDAR
VERSION:2.0
PRODID:http://pfarrei-tschirn.de
BEGIN:VEVENT
UID:b8f8e4ac-3972-11f1-a8bf-0242ac11002b-1778742000000-de
DTSTAMP:20260416T090031Z
DTSTART:20260514T070000Z
DTEND:20260514T080000Z
SUMMARY;LANGUAGE=de:Eucharistiefeier
END:VEVENT
END:VCALENDAR
