BEGIN:VCALENDAR
VERSION:2.0
PRODID:http://pfarrei-tschirn.de
BEGIN:VEVENT
UID:b7ef3cbc-3972-11f1-a8bf-0242ac11002b-1778770800000-de
DTSTAMP:20260416T090030Z
DTSTART:20260514T150000Z
DTEND:20260514T160000Z
SUMMARY;LANGUAGE=de:Bittandacht am Flurkreuz
END:VEVENT
END:VCALENDAR
