BEGIN:VCALENDAR
VERSION:2.0
PRODID:http://pfarrei-tschirn.de
BEGIN:VEVENT
UID:b68d84cd-2b4d-11f1-a15b-0242ac11002b-1777183200000-de
DTSTAMP:20260329T090020Z
DTSTART:20260426T060000Z
DTEND:20260426T070000Z
SUMMARY;LANGUAGE=de:Eucharistiefeier
END:VEVENT
END:VCALENDAR
